BEGIN:VCALENDAR
VERSION:2.0
PRODID:-//Fordland Memorial Library - ECPv5.11.0//NONSGML v1.0//EN
CALSCALE:GREGORIAN
METHOD:PUBLISH
X-WR-CALNAME:Fordland Memorial Library
X-ORIGINAL-URL:http://www.fordlandmemoriallibrary.org
X-WR-CALDESC:Events for Fordland Memorial Library
BEGIN:VTIMEZONE
TZID:UTC
BEGIN:STANDARD
TZOFFSETFROM:+0000
TZOFFSETTO:+0000
TZNAME:UTC
DTSTART:20220101T000000
END:STANDARD
END:VTIMEZONE
BEGIN:VEVENT
DTSTART;TZID=UTC:20230909T110000
DTEND;TZID=UTC:20230909T130000
DTSTAMP:20260419T163115
CREATED:20230805T151527Z
LAST-MODIFIED:20230805T151527Z
UID:549-1694257200-1694264400@www.fordlandmemoriallibrary.org
SUMMARY:American Sign Language Class
DESCRIPTION: September 9\, 2023 will be the third ASL lesson day offered at the library.\n\n\n\nRegular library hours that day will 10 am to 1 pm. \nBonnie Lindgren will be teaching the ASL class from 11 – 1.
URL:http://www.fordlandmemoriallibrary.org/event/american-sign-language-class/
END:VEVENT
BEGIN:VEVENT
DTSTART;TZID=UTC:20230909T100000
DTEND;TZID=UTC:20230909T130000
DTSTAMP:20260419T163115
CREATED:20230805T151658Z
LAST-MODIFIED:20230805T151658Z
UID:551-1694253600-1694264400@www.fordlandmemoriallibrary.org
SUMMARY:Library Open
DESCRIPTION:The library will be open August 19\, 2023 from 10 am to 1 pm. \nASL lessons will be from 11 am to 1 pm.
URL:http://www.fordlandmemoriallibrary.org/event/library-open-2/
END:VEVENT
BEGIN:VEVENT
DTSTART;VALUE=DATE:20230904
DTEND;VALUE=DATE:20230905
DTSTAMP:20260419T163115
CREATED:20230805T151317Z
LAST-MODIFIED:20230805T151317Z
UID:546-1693785600-1693871999@www.fordlandmemoriallibrary.org
SUMMARY:Closed for Labor Day
DESCRIPTION:The library will be closed on Monday\, Sept 4 for the Labor Day holiday.
URL:http://www.fordlandmemoriallibrary.org/event/closed-for-labor-day/
END:VEVENT
BEGIN:VEVENT
DTSTART;TZID=UTC:20230826T100000
DTEND;TZID=UTC:20230826T140000
DTSTAMP:20260419T163115
CREATED:20230608T202800Z
LAST-MODIFIED:20230608T202800Z
UID:530-1693044000-1693058400@www.fordlandmemoriallibrary.org
SUMMARY:August Saturday Open and Storytime
DESCRIPTION:Saturday\, August 26\, story time will have 3 local authors reading to the children. The authors will have their books available to purchase and sign a copy.  Other activities during that day will include rock painting and face painting. \nA hotdog lunch will be provided for those who attend. Regular hours for that day will be 10 – 2. Each author will be available to read in small groups. \nPlan to bring your children of any ages and join the fun!
URL:http://www.fordlandmemoriallibrary.org/event/august-saturday-open-and-storytime/
END:VEVENT
BEGIN:VEVENT
DTSTART;TZID=UTC:20230826T100000
DTEND;TZID=UTC:20230826T140000
DTSTAMP:20260419T163115
CREATED:20230508T203009Z
LAST-MODIFIED:20230508T203009Z
UID:514-1693044000-1693058400@www.fordlandmemoriallibrary.org
SUMMARY:Local Author's Day and Story Time Events
DESCRIPTION:Saturday\, August 26\, story time will have 3 local authors reading to the children. The authors will have their books available to purchase and sign a copy.  Other activities during that day will include rock painting and face painting. \nA hotdog lunch will be provided for those who attend. Regular hours for that day will be 10 – 2. Each author will be available to read in small groups. \nPlan to bring your children of any ages and join the fun!
URL:http://www.fordlandmemoriallibrary.org/event/local-authors-day-and-story-time-events/
END:VEVENT
BEGIN:VEVENT
DTSTART;TZID=UTC:20230819T110000
DTEND;TZID=UTC:20230819T130000
DTSTAMP:20260419T163115
CREATED:20230805T151050Z
LAST-MODIFIED:20230805T151050Z
UID:542-1692442800-1692450000@www.fordlandmemoriallibrary.org
SUMMARY:American Sign Language Lessons
DESCRIPTION:August 19\, 2023 will be the second ASL lesson day offered at the library. \nRegular library hours that day will 10 am to 1 pm. \nBonnie Lindgren will be teaching the ASL class from 11 – 1.
URL:http://www.fordlandmemoriallibrary.org/event/american-sign-language-lessons/
END:VEVENT
BEGIN:VEVENT
DTSTART;TZID=UTC:20230819T100000
DTEND;TZID=UTC:20230819T130000
DTSTAMP:20260419T163115
CREATED:20230805T151206Z
LAST-MODIFIED:20230805T151206Z
UID:544-1692439200-1692450000@www.fordlandmemoriallibrary.org
SUMMARY:Library Open
DESCRIPTION:the library will be open August 19\, 2023 from 10 am to 1 pm. \nASL lessons will be from 11 am to 1 pm.
URL:http://www.fordlandmemoriallibrary.org/event/library-open/
END:VEVENT
BEGIN:VEVENT
DTSTART;TZID=UTC:20230722T100000
DTEND;TZID=UTC:20230722T140000
DTSTAMP:20260419T163115
CREATED:20230608T202341Z
LAST-MODIFIED:20230608T202341Z
UID:528-1690020000-1690034400@www.fordlandmemoriallibrary.org
SUMMARY:July Storytime
DESCRIPTION:Storytime will be from 11 – 12:30ish. \nBring your littles for some story reading\, lunch and maybe some crafts. \nRegular hours on this day are 10 – 2.
URL:http://www.fordlandmemoriallibrary.org/event/july-storytime/
END:VEVENT
BEGIN:VEVENT
DTSTART;TZID=UTC:20230722T100000
DTEND;TZID=UTC:20230722T140000
DTSTAMP:20260419T163115
CREATED:20230608T202252Z
LAST-MODIFIED:20230608T202252Z
UID:526-1690020000-1690034400@www.fordlandmemoriallibrary.org
SUMMARY:July Saturday Open
DESCRIPTION:The library will be open for regular 4th Saturday hours from 10 -2. \nStorytime will be from 11 – 12:30ish. \nBring your littles for some story reading\, lunch and maybe some crafts.
URL:http://www.fordlandmemoriallibrary.org/event/july-saturday-open/
END:VEVENT
BEGIN:VEVENT
DTSTART;TZID=UTC:20230624T100000
DTEND;TZID=UTC:20230624T140000
DTSTAMP:20260419T163115
CREATED:20230508T215715Z
LAST-MODIFIED:20230508T215715Z
UID:518-1687600800-1687615200@www.fordlandmemoriallibrary.org
SUMMARY:June Storytime
DESCRIPTION:Storytime will be from 11 – 12:30ish. \nBring your littles for some story reading\, lunch and maybe some crafts. \nRegular hours on this day are 10 – 2.
URL:http://www.fordlandmemoriallibrary.org/event/june-storytime/
END:VEVENT
BEGIN:VEVENT
DTSTART;TZID=UTC:20230624T100000
DTEND;TZID=UTC:20230624T140000
DTSTAMP:20260419T163115
CREATED:20230508T215551Z
LAST-MODIFIED:20230508T215551Z
UID:516-1687600800-1687615200@www.fordlandmemoriallibrary.org
SUMMARY:June Saturday Open
DESCRIPTION:The library will be open for regular 4th Saturday hours from 10 -2. \nStorytime will be from 11 – 12:30ish. \nBring your littles for some story reading\, lunch and maybe some crafts.
URL:http://www.fordlandmemoriallibrary.org/event/june-saturday-open/
END:VEVENT
BEGIN:VEVENT
DTSTART;TZID=UTC:20230615T080000
DTEND;TZID=UTC:20230617T170000
DTSTAMP:20260419T163115
CREATED:20230508T202350Z
LAST-MODIFIED:20230608T201703Z
UID:512-1686816000-1687021200@www.fordlandmemoriallibrary.org
SUMMARY:Annual Summer 3-Day Yard Sale
DESCRIPTION:The library’s annual 3-day yard sale will be June 15\, 16\, 17 starting at 8 am each day. For convenience\, the sale will be located at 244 W Main Street\, Fordland. If anyone would like to donate items\, please text 417-299-1485. \nAll proceeds from this yard sale go to benefit the library. \nHere is a partial listing of available items: \nLamps\, framed pictures\, dishes\, walkers\, aluminum bats\, NEW packages XL Depends\, Irises\, Plants\, Clothing–baby to 2XL\, Jewelry\, Toys\, Potty Chair\, Shoes\, Glassware\, Printer\, Wooden Puzzles\, Wall decorations\, Collectibles\, Pots/Pans\, Blankets\, Small Home Safe\, Baked Goods \n  \nSo far we have 6 different families that have donated items for this yard sale\,
URL:http://www.fordlandmemoriallibrary.org/event/annual-summer-3-day-yard-sale/
END:VEVENT
BEGIN:VEVENT
DTSTART;TZID=UTC:20230520T100000
DTEND;TZID=UTC:20230520T140000
DTSTAMP:20260419T163115
CREATED:20230508T201457Z
LAST-MODIFIED:20230508T201457Z
UID:510-1684576800-1684591200@www.fordlandmemoriallibrary.org
SUMMARY:The Snake Lady is coming!
DESCRIPTION:During library hours on Saturday\, May 20\, the snake lady (Amanda Fisher) will be visiting to share her reptiles and snakes and read a story or two. The library’s regular hours are 10 -2 this Saturday. Story time starts around 11 am. Lunch is provided for those who attend.
URL:http://www.fordlandmemoriallibrary.org/event/the-snake-lady-is-coming/
END:VEVENT
BEGIN:VEVENT
DTSTART;TZID=UTC:20230513T080000
DTEND;TZID=UTC:20230513T150000
DTSTAMP:20260419T163115
CREATED:20230408T200116Z
LAST-MODIFIED:20230508T201030Z
UID:492-1683964800-1683990000@www.fordlandmemoriallibrary.org
SUMMARY:Fordland Community Sale Day
DESCRIPTION:In conjunction with the Schofield + Gray event\, the Fordland Memorial Library will be having a fundraiser along with other merchants and vendors in town. The Schofield event will be on the east side of town while the library will be hosting similar venues on the west side of town. The parking lot will be set up with local vendors. If you are interested in setting up a vendor  The town of Fordland will be bustling with activity. \nThe library will be serving burritos and a burrito meal plus baked goods. Our baked goods include banana nut bread and pumpkin breads\, cookies\, brownies\, plus other goodies. \nThe library will have used books for FREE with a donation accepted. \nFramed pictures\, small home safe\, 4-wheel walker\, blankets\, IRISES–several varieties. Other items will be for sale–Come see us!
URL:http://www.fordlandmemoriallibrary.org/event/fordland-community-sale-day/
END:VEVENT
BEGIN:VEVENT
DTSTART;TZID=UTC:20230427T110000
DTEND;TZID=UTC:20230427T130000
DTSTAMP:20260419T163115
CREATED:20230217T215158Z
LAST-MODIFIED:20230408T202455Z
UID:486-1682593200-1682600400@www.fordlandmemoriallibrary.org
SUMMARY:Annual Cherry Blossom Festival Burrito Lunch
DESCRIPTION:The Fordland Memorial Library will be serving a Burrito (Enchilada style) Lunch from 11 am to 1 pm at the Marshfield Assembly of God Church. The cost will be $10. \nThe meal will include a burrito\, refried beans\, Spanish rice\, dessert and drink. You may enjoy your meal at the church or take it TO GO. If you would like to order ahead\, please call or text 417-299-1485. \nThis is our big fundraiser for the year. Please support your local library.
URL:http://www.fordlandmemoriallibrary.org/event/annual-cherry-blossom-festival-burrito-lunch/
END:VEVENT
BEGIN:VEVENT
DTSTART;TZID=UTC:20230425T180000
DTEND;TZID=UTC:20230425T190000
DTSTAMP:20260419T163115
CREATED:20230317T155825Z
LAST-MODIFIED:20230317T155825Z
UID:498-1682445600-1682449200@www.fordlandmemoriallibrary.org
SUMMARY:Girl Scout Information Night
DESCRIPTION:Come to the library to learn about joining a Girl Scout troop! \nEarn badges and awards while learning new skills and making new friends. \nOrganization information provided at the library from 6 pm – 7pm.
URL:http://www.fordlandmemoriallibrary.org/event/girl-scout-information-night/
END:VEVENT
BEGIN:VEVENT
DTSTART;TZID=UTC:20230424T090000
DTEND;TZID=UTC:20230424T130000
DTSTAMP:20260419T163115
CREATED:20230317T160541Z
LAST-MODIFIED:20230317T160541Z
UID:500-1682326800-1682341200@www.fordlandmemoriallibrary.org
SUMMARY:Library Closed
DESCRIPTION:The library will be closed Monday morning\, April 24\, while we prepare foods for our burrito luncheon for the Cherry Blossom Festival to be served on Thursday\, April 27\, from 11 am – 1 pm at the Marshfield Assembly of God Church. \nWe will be open during the afternoon from 2 pm – 5 pm.
URL:http://www.fordlandmemoriallibrary.org/event/library-closed-2/
END:VEVENT
BEGIN:VEVENT
DTSTART;TZID=UTC:20230422T100000
DTEND;TZID=UTC:20230422T140000
DTSTAMP:20260419T163115
CREATED:20230217T210652Z
LAST-MODIFIED:20230217T213611Z
UID:473-1682157600-1682172000@www.fordlandmemoriallibrary.org
SUMMARY:April Saturday---Library OPEN
DESCRIPTION:The library is open today from 10 am to 2 pm. \nStory Hour is 11 am to 12 noon.
URL:http://www.fordlandmemoriallibrary.org/event/april-saturday-library-open/
END:VEVENT
BEGIN:VEVENT
DTSTART;TZID=UTC:20230422T080000
DTEND;TZID=UTC:20230422T170000
DTSTAMP:20260419T163115
CREATED:20230217T213745Z
LAST-MODIFIED:20230217T213859Z
UID:475-1682150400-1682182800@www.fordlandmemoriallibrary.org
SUMMARY:April Storytime
DESCRIPTION:The monthly storytime for the Fordland Memorial Library will be Saturday\, April 22\, 2023\, from 11:00 to 12:30 ish. \nCome bring your littles\, listen to readings\, have a free hotdog lunch and maybe even a little crafting.
URL:http://www.fordlandmemoriallibrary.org/event/april-storytime-saturday/
END:VEVENT
BEGIN:VEVENT
DTSTART;TZID=UTC:20230325T110000
DTEND;TZID=UTC:20230325T123000
DTSTAMP:20260419T163115
CREATED:20230317T171732Z
LAST-MODIFIED:20230317T171732Z
UID:502-1679742000-1679747400@www.fordlandmemoriallibrary.org
SUMMARY:March Storytime
DESCRIPTION:The monthly storytime for the Fordland Memorial Library will be Saturday\, March 25\, 2023\, from 11:00 to 12:30 ish. \nCome bring your littles\, listen to readings\, have a free hotdog lunch and maybe even a little crafting.
URL:http://www.fordlandmemoriallibrary.org/event/march-storytime-2/
END:VEVENT
BEGIN:VEVENT
DTSTART;TZID=UTC:20230325T100000
DTEND;TZID=UTC:20230325T140000
DTSTAMP:20260419T163115
CREATED:20230217T210525Z
LAST-MODIFIED:20230217T210525Z
UID:471-1679738400-1679752800@www.fordlandmemoriallibrary.org
SUMMARY:March Saturday---Library OPEN
DESCRIPTION:The library is open today from 10 am to 2 pm. \nStory Hour is 11 am to 12 noon.
URL:http://www.fordlandmemoriallibrary.org/event/march-saturday-library-open/
END:VEVENT
BEGIN:VEVENT
DTSTART;TZID=UTC:20230225T110000
DTEND;TZID=UTC:20230225T123000
DTSTAMP:20260419T163115
CREATED:20230217T205655Z
LAST-MODIFIED:20230217T210343Z
UID:464-1677322800-1677328200@www.fordlandmemoriallibrary.org
SUMMARY:February Storytime
DESCRIPTION:The monthly storytime for the Fordland Memorial Library will be Saturday\, Feb 25\, 2023\, from 11:00 to 12:30 ish. \nCome bring your littles\, listen to readings\, have a free hotdog lunch and maybe even a little crafting.
URL:http://www.fordlandmemoriallibrary.org/event/february-storytime/
END:VEVENT
BEGIN:VEVENT
DTSTART;TZID=UTC:20230225T100000
DTEND;TZID=UTC:20230225T140000
DTSTAMP:20260419T163115
CREATED:20230217T210222Z
LAST-MODIFIED:20230217T210222Z
UID:466-1677319200-1677333600@www.fordlandmemoriallibrary.org
SUMMARY:February Saturday---Library OPEN
DESCRIPTION:The library is open today from 10 am to 2 pm. \nStory Hour is 11 am to 12 noon.
URL:http://www.fordlandmemoriallibrary.org/event/february-saturday-library-open/
END:VEVENT
BEGIN:VEVENT
DTSTART;TZID=UTC:20230220T090000
DTEND;TZID=UTC:20230220T170000
DTSTAMP:20260419T163115
CREATED:20230217T204726Z
LAST-MODIFIED:20230217T204726Z
UID:462-1676883600-1676912400@www.fordlandmemoriallibrary.org
SUMMARY:We are OPEN on President's Day
DESCRIPTION:The Fordland Memorial Library will be open on Monday\, Feb 20\, 2023. \nRegular hours are 9 -1\, 2 – 5.
URL:http://www.fordlandmemoriallibrary.org/event/we-are-open-on-presidents-day/
END:VEVENT
BEGIN:VEVENT
DTSTART;TZID=UTC:20230217T080000
DTEND;TZID=UTC:20230217T170000
DTSTAMP:20260419T163115
CREATED:20230217T214123Z
LAST-MODIFIED:20230217T214123Z
UID:484-1676620800-1676653200@www.fordlandmemoriallibrary.org
SUMMARY:May Saturday---Library OPEN
DESCRIPTION:The library is open today from 10 am to 2 pm. \nStory Hour is 11 am to 12 noon.
URL:http://www.fordlandmemoriallibrary.org/event/may-saturday-library-open/
END:VEVENT
BEGIN:VEVENT
DTSTART;TZID=UTC:20230217T080000
DTEND;TZID=UTC:20230217T170000
DTSTAMP:20260419T163115
CREATED:20230217T214044Z
LAST-MODIFIED:20230217T214044Z
UID:482-1676620800-1676653200@www.fordlandmemoriallibrary.org
SUMMARY:May Storytime
DESCRIPTION:The monthly storytime for the Fordland Memorial Library will be Saturday\, May 20\, 2023\, from 11:00 to 12:30 ish. \nIt is a week earlier in the month due to the holiday weekend the next week. \nCome bring your littles\, listen to readings\, have a free hotdog lunch and maybe even a little crafting.
URL:http://www.fordlandmemoriallibrary.org/event/may-storytime/
END:VEVENT
BEGIN:VEVENT
DTSTART;TZID=UTC:20230217T080000
DTEND;TZID=UTC:20230217T170000
DTSTAMP:20260419T163115
CREATED:20230217T213842Z
LAST-MODIFIED:20230217T213842Z
UID:479-1676620800-1676653200@www.fordlandmemoriallibrary.org
SUMMARY:March Storytime
DESCRIPTION:The monthly storytime for the Fordland Memorial Library will be Saturday\, March 25\, 2023\, from 11:00 to 12:30 ish. \nCome bring your littles\, listen to readings\, have a free hotdog lunch and maybe even a little crafting.
URL:http://www.fordlandmemoriallibrary.org/event/march-storytime/
END:VEVENT
BEGIN:VEVENT
DTSTART;TZID=UTC:20221223T090000
DTEND;TZID=UTC:20230102T170000
DTSTAMP:20260419T163115
CREATED:20220819T204248Z
LAST-MODIFIED:20221224T225222Z
UID:448-1671786000-1672678800@www.fordlandmemoriallibrary.org
SUMMARY:Library Closed for the Holidays
DESCRIPTION:The library will be closed Friday\, December 23 through Monday\, Jan 2\, 2023 for the Christmas Holidays and Library Family Time. Enjoy time with your family and friends.
URL:http://www.fordlandmemoriallibrary.org/event/library-closed-for-the-holidays-2/
END:VEVENT
BEGIN:VEVENT
DTSTART;TZID=UTC:20221210T113000
DTEND;TZID=UTC:20221210T133000
DTSTAMP:20260419T163115
CREATED:20221104T200537Z
LAST-MODIFIED:20221104T201526Z
UID:458-1670671800-1670679000@www.fordlandmemoriallibrary.org
SUMMARY:Build a Gingerbread House workshop
DESCRIPTION:Come to the library for the 2nd Build a Gingerbread House workshop will be held on Saturday 10\, 2022\, after the Fordland City Christmas Parade. All the supplies and gingerbread houses will be provided by the Legacy Tree Service. \nThe parade starts around 11:30 pm. If you are able to let us know in advance\, it would be appreciated. We don’t want to run out of supplies. \nHave some fun with your children at the Fordland Memorial Library! All ages are welcome.
URL:http://www.fordlandmemoriallibrary.org/event/build-a-gingerbread-house-workshop/
END:VEVENT
BEGIN:VEVENT
DTSTART;TZID=UTC:20221126T100000
DTEND;TZID=UTC:20221126T140000
DTSTAMP:20260419T163115
CREATED:20220819T200655Z
LAST-MODIFIED:20220819T200655Z
UID:425-1669456800-1669471200@www.fordlandmemoriallibrary.org
SUMMARY:A Visit From Mr. and Mrs. Santa
DESCRIPTION:Mr. and Mrs. Santa will be visiting the library on Saturday\, November 26\, 2022.  They will be available for picture taking from 10 am to 2 pm\, except during story time at 11 am. \nSanta will be reading a story to the children. A free hotdog lunch will be provided for those that are present during the story time reading. An adult must accompany each child.
URL:http://www.fordlandmemoriallibrary.org/event/a-visit-from-mr-and-mrs-santa/
END:VEVENT
END:VCALENDAR