BEGIN:VCALENDAR
VERSION:2.0
PRODID:-//Fordland Memorial Library - ECPv5.11.0//NONSGML v1.0//EN
CALSCALE:GREGORIAN
METHOD:PUBLISH
X-WR-CALNAME:Fordland Memorial Library
X-ORIGINAL-URL:http://www.fordlandmemoriallibrary.org
X-WR-CALDESC:Events for Fordland Memorial Library
BEGIN:VTIMEZONE
TZID:UTC
BEGIN:STANDARD
TZOFFSETFROM:+0000
TZOFFSETTO:+0000
TZNAME:UTC
DTSTART:20210101T000000
END:STANDARD
END:VTIMEZONE
BEGIN:VEVENT
DTSTART;VALUE=DATE:20220704
DTEND;VALUE=DATE:20220705
DTSTAMP:20260419T230320
CREATED:20220629T204610Z
LAST-MODIFIED:20220629T204814Z
UID:402-1656892800-1656979199@www.fordlandmemoriallibrary.org
SUMMARY:Closed for July 4
DESCRIPTION:The library will be closed for the July 4 holiday. If someone is available\, the library may be open during the city parade.
URL:http://www.fordlandmemoriallibrary.org/event/closed-for-july-4/
END:VEVENT
BEGIN:VEVENT
DTSTART;TZID=UTC:20220625T110000
DTEND;TZID=UTC:20220625T140000
DTSTAMP:20260419T230320
CREATED:20220423T172803Z
LAST-MODIFIED:20220609T201901Z
UID:347-1656154800-1656165600@www.fordlandmemoriallibrary.org
SUMMARY:June Story Hour updated
DESCRIPTION:Our monthly story hour will be July 25\, 2022. Every child 2-8\, plus siblings and friends of the family\, is welcome to attend. Each child must have a parent accompany them. \nStory hour will begin around 11 am and a hotdog lunch will be served after the reading is finished for those in attendance. \nCome join us at the library! \n  \n 
URL:http://www.fordlandmemoriallibrary.org/event/june-2022-story-hour/
END:VEVENT
BEGIN:VEVENT
DTSTART;TZID=UTC:20220625T100000
DTEND;TZID=UTC:20220625T140000
DTSTAMP:20260419T230320
CREATED:20220609T202837Z
LAST-MODIFIED:20220609T202850Z
UID:388-1656151200-1656165600@www.fordlandmemoriallibrary.org
SUMMARY:Change of date for local authors
DESCRIPTION:The meet and greet with local authors has been changed from June 25\, 2022 to Aug 20\, 2022. Please see the Aug 20 date for more information.
URL:http://www.fordlandmemoriallibrary.org/event/change-of-date-for-local-authors/
END:VEVENT
BEGIN:VEVENT
DTSTART;TZID=UTC:20220625T100000
DTEND;TZID=UTC:20220625T140000
DTSTAMP:20260419T230320
CREATED:20220423T173437Z
LAST-MODIFIED:20220423T173638Z
UID:349-1656151200-1656165600@www.fordlandmemoriallibrary.org
SUMMARY:Library Open Saturday
DESCRIPTION:The library is open today from 10 am to 2  pm. \nStory hour will be from 11 am to 12 noon.
URL:http://www.fordlandmemoriallibrary.org/event/library-open-saturday/
END:VEVENT
BEGIN:VEVENT
DTSTART;TZID=UTC:20220604T080000
DTEND;TZID=UTC:20220604T170000
DTSTAMP:20260419T230320
CREATED:20220408T190607Z
LAST-MODIFIED:20220408T190607Z
UID:285-1654329600-1654362000@www.fordlandmemoriallibrary.org
SUMMARY:City Wide Yard Sale
DESCRIPTION:More information to come later.
URL:http://www.fordlandmemoriallibrary.org/event/city-wide-yard-sale/
END:VEVENT
BEGIN:VEVENT
DTSTART;TZID=UTC:20220521T110000
DTEND;TZID=UTC:20220521T130000
DTSTAMP:20260419T230320
CREATED:20220418T232417Z
LAST-MODIFIED:20220418T232417Z
UID:295-1653130800-1653138000@www.fordlandmemoriallibrary.org
SUMMARY:May Story Hour with the "Snake Lady"
DESCRIPTION:On Saturday\, May 21\, Amanda Fisher (aka the “Snake Lady”) will be here to read a story. She will be bringing some of her pet snakes\, reptiles and amphibians. She will be sharing information about these animals and how they live and need care. Visitors will be able to pet and hold some of her animals. \nChildren ages 2-8 are welcome to vist the library from 11-noon to listen while Amanda reads a book. A free hot dog lunch will be served to all who attend. Siblings and friends are welcome. A parent must accompany each child. \nRegular hours for the library on this day are 10 am to 2 pm.
URL:http://www.fordlandmemoriallibrary.org/event/may-story-hour-with-the-snake-lady/
END:VEVENT
BEGIN:VEVENT
DTSTART;TZID=UTC:20220507T083000
DTEND;TZID=UTC:20220507T150000
DTSTAMP:20260419T230320
CREATED:20220316T173020Z
LAST-MODIFIED:20220418T233128Z
UID:191-1651912200-1651935600@www.fordlandmemoriallibrary.org
SUMMARY:Schofield Gray event
DESCRIPTION:The Fordland Memorial Library will be serving a burrito meal for $5 at this event. This meal will include a homemade burrito\, chips\, cookie or brownie and a drink. \nLocal vendors will be set up on the parking lot west of the library.  If you are a local vendor and wish to have a booth\, contact the library via the Fordland Resident Facebook page or email using the library address. There are no setup fees. \nThe library will be selling used books\, baked goods and other items.
URL:http://www.fordlandmemoriallibrary.org/event/schofield-gray-event/
LOCATION:Fordland Memorial Library\, 157 W. Main\, Fordland\, MO\, 65652\, United States
END:VEVENT
BEGIN:VEVENT
DTSTART;TZID=UTC:20220428T110000
DTEND;TZID=UTC:20220428T140000
DTSTAMP:20260419T230320
CREATED:20220316T172436Z
LAST-MODIFIED:20220401T192958Z
UID:189-1651143600-1651154400@www.fordlandmemoriallibrary.org
SUMMARY:Cherry Blossom Festival Burrito (Enchilada style) Lunch
DESCRIPTION:The Fordland Memorial Library will be serving a Burrito (Enchilada style) Lunch from 11 am to 1 pm at the Marshfield Assembly of God Church. The cost will be $10.
URL:http://www.fordlandmemoriallibrary.org/event/cherry-blossom-festival-enchilada-lunch/
LOCATION:Marshfield Assembly of God Church\, 1538 W Washington\, Marshfield\, MO\, 65706
END:VEVENT
BEGIN:VEVENT
DTSTART;VALUE=DATE:20220428
DTEND;VALUE=DATE:20220501
DTSTAMP:20260419T230320
CREATED:20220315T170929Z
LAST-MODIFIED:20220315T170929Z
UID:183-1651104000-1651363199@www.fordlandmemoriallibrary.org
SUMMARY:Cherry Blossom Festival - Marshfield MO
DESCRIPTION:This year’s Missouri Cherry Blossom Festival will be April 28\, 29\, 30 with an opening concert on April 27 (Wednesday) night.
URL:http://www.fordlandmemoriallibrary.org/event/cherry-blossom-festival-marshfield-mo/
END:VEVENT
BEGIN:VEVENT
DTSTART;TZID=UTC:20220425T090000
DTEND;TZID=UTC:20220425T130000
DTSTAMP:20260419T230320
CREATED:20220423T194449Z
LAST-MODIFIED:20220423T194449Z
UID:376-1650877200-1650891600@www.fordlandmemoriallibrary.org
SUMMARY:Library Closed
DESCRIPTION:The library will be closed Monday MORNING\, April 25\, 2022. The board members will be preparing burritos and enchilada sauce for the lunch to be served on Thursday\, April 28\, 2022. \nIt will be OPEN on Monday AFTERNOON\, April 25\, 2022.
URL:http://www.fordlandmemoriallibrary.org/event/library-closed/
END:VEVENT
BEGIN:VEVENT
DTSTART;TZID=UTC:20220423T100000
DTEND;TZID=UTC:20220423T140000
DTSTAMP:20260419T230320
CREATED:20220407T181545Z
LAST-MODIFIED:20220407T181545Z
UID:276-1650708000-1650722400@www.fordlandmemoriallibrary.org
SUMMARY:April Story Hour
DESCRIPTION:Our monthly story hour is starting up again on April 23\, 2022. Beta Club members will be reading to each participant. Every child 2-8 will have their own personal reader. Siblings and friends of the family are welcome to attend. Each child must have a parent accompany them. \nA fun activity is being planned as well as a free hot dog lunch provided for all who attend. \nThe library will be open from 10 am to 2 pm. Story hour will begin around 11 am. \nCome join us at the library!
URL:http://www.fordlandmemoriallibrary.org/event/april-story-hour/
END:VEVENT
BEGIN:VEVENT
DTSTART;TZID=UTC:20220416T100000
DTEND;TZID=UTC:20220416T130000
DTSTAMP:20260419T230320
CREATED:20220407T180823Z
LAST-MODIFIED:20220407T180823Z
UID:274-1650103200-1650114000@www.fordlandmemoriallibrary.org
SUMMARY:"Community" Bake Sale
DESCRIPTION:With the help of the Fordland High School Beta Club\, the “community” bake sale will be held at the DOLLAR GENERAL store on April 16\, 2022. Goods will be available for purchase at 10 am. Proceeds will be used to weatherize the handicap ramp and buy new books. \nThis is a “community” bake sale as the library is asking for community support to bake items or purchase goods on this Saturday. If you plan to bake items\, they can be dropped off at the library on Friday\, April 15\, during business hours from 9-1 and 2-5. They can be brought to DOLLAR GENERAL in the morning on April 16\, between 9:45 am and 10 am.
URL:http://www.fordlandmemoriallibrary.org/event/community-bake-sale/
END:VEVENT
BEGIN:VEVENT
DTSTART;TZID=UTC:20220129T110000
DTEND;TZID=UTC:20220129T120000
DTSTAMP:20260419T230320
CREATED:20211123T175233Z
LAST-MODIFIED:20211123T175233Z
UID:68-1643454000-1643457600@www.fordlandmemoriallibrary.org
SUMMARY:Story time for Ages 2-8
DESCRIPTION:Story time for ages 2-8\, with siblings and other friends invited from 11am – 12pm.
URL:http://www.fordlandmemoriallibrary.org/event/story-time-for-ages-2-8-2/
LOCATION:Fordland Memorial Library\, 157 W. Main\, Fordland\, MO\, 65652\, United States
ORGANIZER;CN="Fordland%20Memorial%20Library":MAILTO:luvtoreadforfun@gmail.com
END:VEVENT
BEGIN:VEVENT
DTSTART;TZID=UTC:20211128T110000
DTEND;TZID=UTC:20211128T120000
DTSTAMP:20260419T230320
CREATED:20211123T174944Z
LAST-MODIFIED:20211123T174944Z
UID:63-1638097200-1638100800@www.fordlandmemoriallibrary.org
SUMMARY:Story time for Ages 2-8
DESCRIPTION:Story time for ages 2-8\, with siblings and other friends invited from 11am – 12pm
URL:http://www.fordlandmemoriallibrary.org/event/story-time-for-ages-2-8/
LOCATION:Fordland Memorial Library\, 157 W. Main\, Fordland\, MO\, 65652\, United States
ORGANIZER;CN="Fordland%20Memorial%20Library":MAILTO:luvtoreadforfun@gmail.com
END:VEVENT
BEGIN:VEVENT
DTSTART;TZID=UTC:20211127T110000
DTEND;TZID=UTC:20211127T150000
DTSTAMP:20260419T230320
CREATED:20211123T191243Z
LAST-MODIFIED:20211123T191243Z
UID:99-1638010800-1638025200@www.fordlandmemoriallibrary.org
SUMMARY:Visit From Mr. & Mrs. Santa Clause
DESCRIPTION:We will be having Mr and Mrs Santa visiting on Nov 27\, 2021\, from 11-3. They will be reading to the children from 11-11:30 and then be available for pictures the rest of the time.
URL:http://www.fordlandmemoriallibrary.org/event/visit-from-mr-mrs-santa-clause/
LOCATION:Fordland Memorial Library\, 157 W. Main\, Fordland\, MO\, 65652\, United States
ORGANIZER;CN="Fordland%20Memorial%20Library":MAILTO:luvtoreadforfun@gmail.com
END:VEVENT
END:VCALENDAR