BEGIN:VCALENDAR
VERSION:2.0
PRODID:-//Fordland Memorial Library - ECPv5.11.0//NONSGML v1.0//EN
CALSCALE:GREGORIAN
METHOD:PUBLISH
X-WR-CALNAME:Fordland Memorial Library
X-ORIGINAL-URL:http://www.fordlandmemoriallibrary.org
X-WR-CALDESC:Events for Fordland Memorial Library
BEGIN:VTIMEZONE
TZID:UTC
BEGIN:STANDARD
TZOFFSETFROM:+0000
TZOFFSETTO:+0000
TZNAME:UTC
DTSTART:20230101T000000
END:STANDARD
END:VTIMEZONE
BEGIN:VEVENT
DTSTART;TZID=UTC:20230520T100000
DTEND;TZID=UTC:20230520T140000
DTSTAMP:20260419T201409
CREATED:20230508T201457Z
LAST-MODIFIED:20230508T201457Z
UID:510-1684576800-1684591200@www.fordlandmemoriallibrary.org
SUMMARY:The Snake Lady is coming!
DESCRIPTION:During library hours on Saturday\, May 20\, the snake lady (Amanda Fisher) will be visiting to share her reptiles and snakes and read a story or two. The library’s regular hours are 10 -2 this Saturday. Story time starts around 11 am. Lunch is provided for those who attend.
URL:http://www.fordlandmemoriallibrary.org/event/the-snake-lady-is-coming/
END:VEVENT
END:VCALENDAR