BEGIN:VCALENDAR
VERSION:2.0
PRODID:-//Fordland Memorial Library - ECPv5.11.0//NONSGML v1.0//EN
CALSCALE:GREGORIAN
METHOD:PUBLISH
X-WR-CALNAME:Fordland Memorial Library
X-ORIGINAL-URL:http://www.fordlandmemoriallibrary.org
X-WR-CALDESC:Events for Fordland Memorial Library
BEGIN:VTIMEZONE
TZID:UTC
BEGIN:STANDARD
TZOFFSETFROM:+0000
TZOFFSETTO:+0000
TZNAME:UTC
DTSTART:20260101T000000
END:STANDARD
END:VTIMEZONE
BEGIN:VEVENT
DTSTART;TZID=UTC:20260124T110000
DTEND;TZID=UTC:20260124T130000
DTSTAMP:20260419T214518
CREATED:20260106T184428Z
LAST-MODIFIED:20260112T224751Z
UID:769-1769252400-1769259600@www.fordlandmemoriallibrary.org
SUMMARY:January Storytime
DESCRIPTION:Please join us for our first story time of 2026! Attendees will listen to stories and make a craft. \nLunch is free for all who attend (hotdogs\, chips\, and a drink). \nAll ages are welcome with an accompanying parent or older teenager. \n 
URL:http://www.fordlandmemoriallibrary.org/event/storytime/
END:VEVENT
END:VCALENDAR