BEGIN:VCALENDAR
VERSION:2.0
PRODID:-//Fordland Memorial Library - ECPv5.11.0//NONSGML v1.0//EN
CALSCALE:GREGORIAN
METHOD:PUBLISH
X-WR-CALNAME:Fordland Memorial Library
X-ORIGINAL-URL:http://www.fordlandmemoriallibrary.org
X-WR-CALDESC:Events for Fordland Memorial Library
BEGIN:VTIMEZONE
TZID:UTC
BEGIN:STANDARD
TZOFFSETFROM:+0000
TZOFFSETTO:+0000
TZNAME:UTC
DTSTART:20260101T000000
END:STANDARD
END:VTIMEZONE
BEGIN:VEVENT
DTSTART;TZID=UTC:20260112T080000
DTEND;TZID=UTC:20260112T170000
DTSTAMP:20260419T195734
CREATED:20260112T213457Z
LAST-MODIFIED:20260112T213457Z
UID:782-1768204800-1768237200@www.fordlandmemoriallibrary.org
SUMMARY:Storytime
DESCRIPTION:Saturday\, February 21 – Storytime: 11:00 am to 1:00 pm. Come visit the library to hear stories\, make a craft\, and have lunch (hot dogs\, chips\, and a drink). Lunch is free to all who attend. All ages are welcome with an accompanying parent or older teenager.
URL:http://www.fordlandmemoriallibrary.org/event/storytime-2/
END:VEVENT
END:VCALENDAR