BEGIN:VCALENDAR
VERSION:2.0
PRODID:-//Fordland Memorial Library - ECPv5.11.0//NONSGML v1.0//EN
CALSCALE:GREGORIAN
METHOD:PUBLISH
X-WR-CALNAME:Fordland Memorial Library
X-ORIGINAL-URL:http://www.fordlandmemoriallibrary.org
X-WR-CALDESC:Events for Fordland Memorial Library
BEGIN:VTIMEZONE
TZID:UTC
BEGIN:STANDARD
TZOFFSETFROM:+0000
TZOFFSETTO:+0000
TZNAME:UTC
DTSTART:20240101T000000
END:STANDARD
END:VTIMEZONE
BEGIN:VEVENT
DTSTART;TZID=UTC:20240824T100000
DTEND;TZID=UTC:20240824T140000
DTSTAMP:20260420T010429
CREATED:20240410T180712Z
LAST-MODIFIED:20240707T202713Z
UID:655-1724493600-1724508000@www.fordlandmemoriallibrary.org
SUMMARY:Story Time- Local Author's Day
DESCRIPTION:Join us for a super special STORYTIME  where we get to hear from and meet LOCAL CHILDREN’S AUTHORS. \nWe will also have visitors from SASSAFRAS COUNTRY (rock painting) and MUDDY HOOVES FARM\, a BOUNCE HOUSE\, a WRITE YOUR OWN BOOK activity with children’s book editor and story time coordinator Jessica Barber. There will be a charge to see the mobile farm zoo animals from Muddy Hooves Farm. \nLibrary hours and Author’s Day will be from10am-2pm
URL:http://www.fordlandmemoriallibrary.org/event/story-time-local-authors-day/
END:VEVENT
END:VCALENDAR