BEGIN:VCALENDAR
VERSION:2.0
PRODID:-//Fordland Memorial Library - ECPv5.11.0//NONSGML v1.0//EN
CALSCALE:GREGORIAN
METHOD:PUBLISH
X-WR-CALNAME:Fordland Memorial Library
X-ORIGINAL-URL:http://www.fordlandmemoriallibrary.org
X-WR-CALDESC:Events for Fordland Memorial Library
BEGIN:VTIMEZONE
TZID:UTC
BEGIN:STANDARD
TZOFFSETFROM:+0000
TZOFFSETTO:+0000
TZNAME:UTC
DTSTART:20250101T000000
END:STANDARD
END:VTIMEZONE
BEGIN:VEVENT
DTSTART;TZID=UTC:20250514T103000
DTEND;TZID=UTC:20250514T120000
DTSTAMP:20260419T214320
CREATED:20250429T195356Z
LAST-MODIFIED:20250429T195356Z
UID:741-1747218600-1747224000@www.fordlandmemoriallibrary.org
SUMMARY:Spring Play Time
DESCRIPTION:Join us for a morning of story time\, music and sensory play! \nAges 5 and under \nFordland Memorial Library \n157 W Main
URL:http://www.fordlandmemoriallibrary.org/event/spring-play-time/
END:VEVENT
END:VCALENDAR