BEGIN:VCALENDAR
VERSION:2.0
PRODID:-//Fordland Memorial Library - ECPv5.11.0//NONSGML v1.0//EN
CALSCALE:GREGORIAN
METHOD:PUBLISH
X-WR-CALNAME:Fordland Memorial Library
X-ORIGINAL-URL:http://www.fordlandmemoriallibrary.org
X-WR-CALDESC:Events for Fordland Memorial Library
BEGIN:VTIMEZONE
TZID:UTC
BEGIN:STANDARD
TZOFFSETFROM:+0000
TZOFFSETTO:+0000
TZNAME:UTC
DTSTART:20220101T000000
END:STANDARD
END:VTIMEZONE
BEGIN:VEVENT
DTSTART;TZID=UTC:20220924T110000
DTEND;TZID=UTC:20220924T120000
DTSTAMP:20260420T005113
CREATED:20220819T201722Z
LAST-MODIFIED:20220819T201833Z
UID:437-1664017200-1664020800@www.fordlandmemoriallibrary.org
SUMMARY:September Story Hour
DESCRIPTION:Our monthly story hour will be September 24\, 2022. Every child 2-8\, plus siblings and friends of the family\, is welcome to attend. Each child must have a parent accompany them. \nA free hotdog lunch is provided for all who attend.
URL:http://www.fordlandmemoriallibrary.org/event/september-story-hour-2/
END:VEVENT
END:VCALENDAR