BEGIN:VCALENDAR
VERSION:2.0
PRODID:-//Fordland Memorial Library - ECPv5.11.0//NONSGML v1.0//EN
CALSCALE:GREGORIAN
METHOD:PUBLISH
X-WR-CALNAME:Fordland Memorial Library
X-ORIGINAL-URL:http://www.fordlandmemoriallibrary.org
X-WR-CALDESC:Events for Fordland Memorial Library
BEGIN:VTIMEZONE
TZID:UTC
BEGIN:STANDARD
TZOFFSETFROM:+0000
TZOFFSETTO:+0000
TZNAME:UTC
DTSTART:20220101T000000
END:STANDARD
END:VTIMEZONE
BEGIN:VEVENT
DTSTART;TZID=UTC:20221112T083000
DTEND;TZID=UTC:20221112T143000
DTSTAMP:20260419T230818
CREATED:20220408T191031Z
LAST-MODIFIED:20221104T195820Z
UID:289-1668241800-1668263400@www.fordlandmemoriallibrary.org
SUMMARY:Book Fair\, Local Vendors and Baked Goods
DESCRIPTION:The Fordland Memorial Library will be serving chili\, soup\, and burritos (including a  meal combo for $5) at this event. Banana and pumpkin bread\, cookies\, brownies and other tasty sweets will be for sale. \nLocal vendors will be set up on the parking lot west of the library. Watch for pictures of their wares on the Fordland Resident Facebook page and the Fordland Memorial Library Facebook page. There will pottery\, greeting cards\, cupcakes\, wreaths\, Christmas signs\, towels and decorations and so much more. All made by local people. \nOur used books will be free with a donation to the library. You may take as many books as you would like. \nRoom 135 will have vendors inside. The Schofield Gray event will be happening on the east side of town.
URL:http://www.fordlandmemoriallibrary.org/event/schofield-gray-event-3/
END:VEVENT
END:VCALENDAR