BEGIN:VCALENDAR
VERSION:2.0
PRODID:-//Fordland Memorial Library - ECPv5.11.0//NONSGML v1.0//EN
CALSCALE:GREGORIAN
METHOD:PUBLISH
X-WR-CALNAME:Fordland Memorial Library
X-ORIGINAL-URL:http://www.fordlandmemoriallibrary.org
X-WR-CALDESC:Events for Fordland Memorial Library
BEGIN:VTIMEZONE
TZID:UTC
BEGIN:STANDARD
TZOFFSETFROM:+0000
TZOFFSETTO:+0000
TZNAME:UTC
DTSTART:20240101T000000
END:STANDARD
END:VTIMEZONE
BEGIN:VEVENT
DTSTART;TZID=UTC:20241207T100000
DTEND;TZID=UTC:20241207T140000
DTSTAMP:20260419T232715
CREATED:20241029T162750Z
LAST-MODIFIED:20241029T162750Z
UID:715-1733565600-1733580000@www.fordlandmemoriallibrary.org
SUMMARY:Santa Claus
DESCRIPTION:Mr and Mrs Santa will be arriving at the library just in time to read a story or two. \nCome bring your littles and get a picture with the Santas. \n 
URL:http://www.fordlandmemoriallibrary.org/event/santa-claus/
END:VEVENT
END:VCALENDAR