BEGIN:VCALENDAR
VERSION:2.0
PRODID:-//Fordland Memorial Library - ECPv5.11.0//NONSGML v1.0//EN
CALSCALE:GREGORIAN
METHOD:PUBLISH
X-WR-CALNAME:Fordland Memorial Library
X-ORIGINAL-URL:http://www.fordlandmemoriallibrary.org
X-WR-CALDESC:Events for Fordland Memorial Library
BEGIN:VTIMEZONE
TZID:UTC
BEGIN:STANDARD
TZOFFSETFROM:+0000
TZOFFSETTO:+0000
TZNAME:UTC
DTSTART:20240101T000000
END:STANDARD
END:VTIMEZONE
BEGIN:VEVENT
DTSTART;TZID=UTC:20241202T090000
DTEND;TZID=UTC:20241206T190000
DTSTAMP:20260420T010229
CREATED:20241204T194655Z
LAST-MODIFIED:20241204T194655Z
UID:719-1733130000-1733511600@www.fordlandmemoriallibrary.org
SUMMARY:Paperpie (Usborne and more) Book Fair
DESCRIPTION:Come to this Christmas Book Fair at the library! There are approximately 100 books that can be purchased on-site using Venmo\, Credit Card (with Square)\, Check or Cash. \nYou can browse other books that are on display and then order them online using the library’s laptops or from the convenience of your home. Use this link \nhttps://paperpie.com/brandpartner/F14436/event/4044196 \n 
URL:http://www.fordlandmemoriallibrary.org/event/paperpie-usborne-and-more-book-fair/
END:VEVENT
END:VCALENDAR