BEGIN:VCALENDAR
VERSION:2.0
PRODID:-//Fordland Memorial Library - ECPv5.11.0//NONSGML v1.0//EN
CALSCALE:GREGORIAN
METHOD:PUBLISH
X-WR-CALNAME:Fordland Memorial Library
X-ORIGINAL-URL:http://www.fordlandmemoriallibrary.org
X-WR-CALDESC:Events for Fordland Memorial Library
BEGIN:VTIMEZONE
TZID:UTC
BEGIN:STANDARD
TZOFFSETFROM:+0000
TZOFFSETTO:+0000
TZNAME:UTC
DTSTART:20230101T000000
END:STANDARD
END:VTIMEZONE
BEGIN:VEVENT
DTSTART;TZID=UTC:20231203T133000
DTEND;TZID=UTC:20231203T170000
DTSTAMP:20260419T181256
CREATED:20231002T040109Z
LAST-MODIFIED:20231002T040109Z
UID:564-1701610200-1701622800@www.fordlandmemoriallibrary.org
SUMMARY:Ornament Painting Class
DESCRIPTION:Come and participate in an Ornament Painting class with Sassafras Country. \nSpace is limited and there will be a fee. All supplies are provided. \nWatch for advertising on Facebook or return to this page for updates. If interested\, you may send an email to: luvtoreadforfun@gmail.com \nSunday\, December 3\, 2023 \n1:30 to 5 pm
URL:http://www.fordlandmemoriallibrary.org/event/ornament-painting-class/
END:VEVENT
END:VCALENDAR