BEGIN:VCALENDAR
VERSION:2.0
PRODID:-//Fordland Memorial Library - ECPv5.11.0//NONSGML v1.0//EN
CALSCALE:GREGORIAN
METHOD:PUBLISH
X-WR-CALNAME:Fordland Memorial Library
X-ORIGINAL-URL:http://www.fordlandmemoriallibrary.org
X-WR-CALDESC:Events for Fordland Memorial Library
BEGIN:VTIMEZONE
TZID:UTC
BEGIN:STANDARD
TZOFFSETFROM:+0000
TZOFFSETTO:+0000
TZNAME:UTC
DTSTART:20220101T000000
END:STANDARD
END:VTIMEZONE
BEGIN:VEVENT
DTSTART;TZID=UTC:20221022T100000
DTEND;TZID=UTC:20221022T140000
DTSTAMP:20260419T212124
CREATED:20220819T201425Z
LAST-MODIFIED:20220819T202633Z
UID:435-1666432800-1666447200@www.fordlandmemoriallibrary.org
SUMMARY:October Saturday--Library Open
DESCRIPTION:The library is open today from 10 am to 2 pm. \nStory Hour will be at the Chateau Charmant located at 1700 Martins Branch Rd\, Fordland\, MO 65652\, starting at 10:30.
URL:http://www.fordlandmemoriallibrary.org/event/october-saturday-library-open/
END:VEVENT
END:VCALENDAR