BEGIN:VCALENDAR
VERSION:2.0
PRODID:-//Fordland Memorial Library - ECPv5.11.0//NONSGML v1.0//EN
CALSCALE:GREGORIAN
METHOD:PUBLISH
X-WR-CALNAME:Fordland Memorial Library
X-ORIGINAL-URL:http://www.fordlandmemoriallibrary.org
X-WR-CALDESC:Events for Fordland Memorial Library
BEGIN:VTIMEZONE
TZID:UTC
BEGIN:STANDARD
TZOFFSETFROM:+0000
TZOFFSETTO:+0000
TZNAME:UTC
DTSTART:20230101T000000
END:STANDARD
END:VTIMEZONE
BEGIN:VEVENT
DTSTART;TZID=UTC:20231125T093000
DTEND;TZID=UTC:20231125T140000
DTSTAMP:20260419T163939
CREATED:20231002T035727Z
LAST-MODIFIED:20231002T035727Z
UID:562-1700904600-1700920800@www.fordlandmemoriallibrary.org
SUMMARY:Mr and Mrs Santa
DESCRIPTION:Mr. and Mrs. Santa will be visiting the Fordland Memorial Library. \nCome listen to Santa read a story or two. Get your picture taken and enjoy a free hotdog lunch. \n 
URL:http://www.fordlandmemoriallibrary.org/event/mr-and-mrs-santa/
END:VEVENT
END:VCALENDAR