BEGIN:VCALENDAR
VERSION:2.0
PRODID:-//Fordland Memorial Library - ECPv5.11.0//NONSGML v1.0//EN
CALSCALE:GREGORIAN
METHOD:PUBLISH
X-WR-CALNAME:Fordland Memorial Library
X-ORIGINAL-URL:http://www.fordlandmemoriallibrary.org
X-WR-CALDESC:Events for Fordland Memorial Library
BEGIN:VTIMEZONE
TZID:UTC
BEGIN:STANDARD
TZOFFSETFROM:+0000
TZOFFSETTO:+0000
TZNAME:UTC
DTSTART:20230101T000000
END:STANDARD
END:VTIMEZONE
BEGIN:VEVENT
DTSTART;TZID=UTC:20230217T080000
DTEND;TZID=UTC:20230217T170000
DTSTAMP:20260419T230811
CREATED:20230217T214044Z
LAST-MODIFIED:20230217T214044Z
UID:482-1676620800-1676653200@www.fordlandmemoriallibrary.org
SUMMARY:May Storytime
DESCRIPTION:The monthly storytime for the Fordland Memorial Library will be Saturday\, May 20\, 2023\, from 11:00 to 12:30 ish. \nIt is a week earlier in the month due to the holiday weekend the next week. \nCome bring your littles\, listen to readings\, have a free hotdog lunch and maybe even a little crafting.
URL:http://www.fordlandmemoriallibrary.org/event/may-storytime/
END:VEVENT
END:VCALENDAR