BEGIN:VCALENDAR
VERSION:2.0
PRODID:-//Fordland Memorial Library - ECPv5.11.0//NONSGML v1.0//EN
CALSCALE:GREGORIAN
METHOD:PUBLISH
X-WR-CALNAME:Fordland Memorial Library
X-ORIGINAL-URL:http://www.fordlandmemoriallibrary.org
X-WR-CALDESC:Events for Fordland Memorial Library
BEGIN:VTIMEZONE
TZID:UTC
BEGIN:STANDARD
TZOFFSETFROM:+0000
TZOFFSETTO:+0000
TZNAME:UTC
DTSTART:20250101T000000
END:STANDARD
END:VTIMEZONE
BEGIN:VEVENT
DTSTART;TZID=UTC:20250517T110000
DTEND;TZID=UTC:20250517T123000
DTSTAMP:20260419T214617
CREATED:20250429T195808Z
LAST-MODIFIED:20250429T195808Z
UID:743-1747479600-1747485000@www.fordlandmemoriallibrary.org
SUMMARY:May Story Time
DESCRIPTION:Join us for stories\, crafts\, and lunch! \nAll ages are welcome with accompanying parental or older teenager. \nLunch is free for all who attend 🙂 \n  \nRegular library hours that day are 10 am to 2 pm.
URL:http://www.fordlandmemoriallibrary.org/event/may-story-time/
END:VEVENT
END:VCALENDAR