BEGIN:VCALENDAR
VERSION:2.0
PRODID:-//Fordland Memorial Library - ECPv5.11.0//NONSGML v1.0//EN
CALSCALE:GREGORIAN
METHOD:PUBLISH
X-WR-CALNAME:Fordland Memorial Library
X-ORIGINAL-URL:http://www.fordlandmemoriallibrary.org
X-WR-CALDESC:Events for Fordland Memorial Library
BEGIN:VTIMEZONE
TZID:UTC
BEGIN:STANDARD
TZOFFSETFROM:+0000
TZOFFSETTO:+0000
TZNAME:UTC
DTSTART:20240101T000000
END:STANDARD
END:VTIMEZONE
BEGIN:VEVENT
DTSTART;TZID=UTC:20240425T110000
DTEND;TZID=UTC:20240425T130000
DTSTAMP:20260420T024529
CREATED:20240315T202640Z
LAST-MODIFIED:20240315T202640Z
UID:627-1714042800-1714050000@www.fordlandmemoriallibrary.org
SUMMARY:Marshfield Cherry Blossom Festival
DESCRIPTION:Stop by the Marshfield Cherry Blossom Festival to buy a BURRITO LUNCH to support the library.\nVolunteers needed\, inquire at the library.
URL:http://www.fordlandmemoriallibrary.org/event/marshfield-cherry-blossom-festival/
LOCATION:Marshfield Assembly of God Church\, 1538 W Washington\, Marshfield\, MO\, 65706
END:VEVENT
END:VCALENDAR