BEGIN:VCALENDAR
VERSION:2.0
PRODID:-//Fordland Memorial Library - ECPv5.11.0//NONSGML v1.0//EN
CALSCALE:GREGORIAN
METHOD:PUBLISH
X-WR-CALNAME:Fordland Memorial Library
X-ORIGINAL-URL:http://www.fordlandmemoriallibrary.org
X-WR-CALDESC:Events for Fordland Memorial Library
BEGIN:VTIMEZONE
TZID:UTC
BEGIN:STANDARD
TZOFFSETFROM:+0000
TZOFFSETTO:+0000
TZNAME:UTC
DTSTART:20220101T000000
END:STANDARD
END:VTIMEZONE
BEGIN:VEVENT
DTSTART;TZID=UTC:20220723T100000
DTEND;TZID=UTC:20220723T140000
DTSTAMP:20260419T230629
CREATED:20220423T175542Z
LAST-MODIFIED:20220423T175542Z
UID:361-1658570400-1658584800@www.fordlandmemoriallibrary.org
SUMMARY:Library Open Saturday
DESCRIPTION:The library is open today from 10 am to 2 pm. \nStory Hour is 11 am to 12 noon. \n 
URL:http://www.fordlandmemoriallibrary.org/event/library-open-saturday-2/
END:VEVENT
END:VCALENDAR