BEGIN:VCALENDAR
VERSION:2.0
PRODID:-//Fordland Memorial Library - ECPv5.11.0//NONSGML v1.0//EN
CALSCALE:GREGORIAN
METHOD:PUBLISH
X-WR-CALNAME:Fordland Memorial Library
X-ORIGINAL-URL:http://www.fordlandmemoriallibrary.org
X-WR-CALDESC:Events for Fordland Memorial Library
BEGIN:VTIMEZONE
TZID:UTC
BEGIN:STANDARD
TZOFFSETFROM:+0000
TZOFFSETTO:+0000
TZNAME:UTC
DTSTART:20240101T000000
END:STANDARD
END:VTIMEZONE
BEGIN:VEVENT
DTSTART;VALUE=DATE:20241223
DTEND;VALUE=DATE:20250103
DTSTAMP:20260420T025116
CREATED:20241004T212231Z
LAST-MODIFIED:20241004T212231Z
UID:707-1734912000-1735862399@www.fordlandmemoriallibrary.org
SUMMARY:Library closed for the Christmas and New Year holidays
DESCRIPTION:The Fordland Memorial Library will be closed Monday\, December 23\, through Thursday\, Jan 2\, for the holidays. This will give all the volunteers time to spend the holidays with friends and family.
URL:http://www.fordlandmemoriallibrary.org/event/library-closed-for-the-christmas-and-new-year-holidays/
END:VEVENT
END:VCALENDAR