BEGIN:VCALENDAR
VERSION:2.0
PRODID:-//Fordland Memorial Library - ECPv5.11.0//NONSGML v1.0//EN
CALSCALE:GREGORIAN
METHOD:PUBLISH
X-WR-CALNAME:Fordland Memorial Library
X-ORIGINAL-URL:http://www.fordlandmemoriallibrary.org
X-WR-CALDESC:Events for Fordland Memorial Library
BEGIN:VTIMEZONE
TZID:UTC
BEGIN:STANDARD
TZOFFSETFROM:+0000
TZOFFSETTO:+0000
TZNAME:UTC
DTSTART:20240101T000000
END:STANDARD
END:VTIMEZONE
BEGIN:VEVENT
DTSTART;VALUE=DATE:20241127
DTEND;VALUE=DATE:20241201
DTSTAMP:20260419T232849
CREATED:20241004T210713Z
LAST-MODIFIED:20241004T210713Z
UID:705-1732665600-1733011199@www.fordlandmemoriallibrary.org
SUMMARY:Library Closed for Thanksgiving Holiday
DESCRIPTION:The Fordland Memorial Library will be closed Wednesday\, Nov 27 through Saturday\, Nov 30\, for the Thanksgiving holiday. This gives the library volunteers time to spend with their friends and family.
URL:http://www.fordlandmemoriallibrary.org/event/library-closed-for-thanksgiving-holiday/
END:VEVENT
END:VCALENDAR