BEGIN:VCALENDAR
VERSION:2.0
PRODID:-//Fordland Memorial Library - ECPv5.11.0//NONSGML v1.0//EN
CALSCALE:GREGORIAN
METHOD:PUBLISH
X-WR-CALNAME:Fordland Memorial Library
X-ORIGINAL-URL:http://www.fordlandmemoriallibrary.org
X-WR-CALDESC:Events for Fordland Memorial Library
BEGIN:VTIMEZONE
TZID:UTC
BEGIN:STANDARD
TZOFFSETFROM:+0000
TZOFFSETTO:+0000
TZNAME:UTC
DTSTART:20250101T000000
END:STANDARD
END:VTIMEZONE
BEGIN:VEVENT
DTSTART;TZID=UTC:20250628T100000
DTEND;TZID=UTC:20250628T140000
DTSTAMP:20260419T214951
CREATED:20250517T184629Z
LAST-MODIFIED:20250517T184629Z
UID:748-1751104800-1751119200@www.fordlandmemoriallibrary.org
SUMMARY:June Monthly Open Saturday
DESCRIPTION:The regular monthly open Saturday is June 28\, 2025. \nCheck out some books. There are new ones added to the inventory almost every week. \nRegular hours are 10 am to 2 pm. \nStorytime begins at 11 am.
URL:http://www.fordlandmemoriallibrary.org/event/june-monthly-open-saturday/
END:VEVENT
END:VCALENDAR