BEGIN:VCALENDAR
VERSION:2.0
PRODID:-//Fordland Memorial Library - ECPv5.11.0//NONSGML v1.0//EN
CALSCALE:GREGORIAN
METHOD:PUBLISH
X-WR-CALNAME:Fordland Memorial Library
X-ORIGINAL-URL:http://www.fordlandmemoriallibrary.org
X-WR-CALDESC:Events for Fordland Memorial Library
BEGIN:VTIMEZONE
TZID:UTC
BEGIN:STANDARD
TZOFFSETFROM:+0000
TZOFFSETTO:+0000
TZNAME:UTC
DTSTART:20240101T000000
END:STANDARD
END:VTIMEZONE
BEGIN:VEVENT
DTSTART;TZID=UTC:20240629T100000
DTEND;TZID=UTC:20240629T140000
DTSTAMP:20260420T005855
CREATED:20240315T204113Z
LAST-MODIFIED:20240410T180738Z
UID:635-1719655200-1719669600@www.fordlandmemoriallibrary.org
SUMMARY:June Saturday of the Month
DESCRIPTION:STORYTIME 11am – 12pm \nwith Jessica Barber and Vickie Johnson \nJoin us as we read books about THE 4TH OF JULY\, then stay for crafts and a hot dog lunch. We will also have a visit and demonstration from the FORDLAND FIRE STATION! \nLibrary hours are 10am-2pm
URL:http://www.fordlandmemoriallibrary.org/event/june-library-day/
END:VEVENT
END:VCALENDAR