BEGIN:VCALENDAR
VERSION:2.0
PRODID:-//Fordland Memorial Library - ECPv5.11.0//NONSGML v1.0//EN
CALSCALE:GREGORIAN
METHOD:PUBLISH
X-WR-CALNAME:Fordland Memorial Library
X-ORIGINAL-URL:http://www.fordlandmemoriallibrary.org
X-WR-CALDESC:Events for Fordland Memorial Library
BEGIN:VTIMEZONE
TZID:UTC
BEGIN:STANDARD
TZOFFSETFROM:+0000
TZOFFSETTO:+0000
TZNAME:UTC
DTSTART:20230101T000000
END:STANDARD
END:VTIMEZONE
BEGIN:VEVENT
DTSTART;TZID=UTC:20230722T100000
DTEND;TZID=UTC:20230722T140000
DTSTAMP:20260419T182352
CREATED:20230608T202252Z
LAST-MODIFIED:20230608T202252Z
UID:526-1690020000-1690034400@www.fordlandmemoriallibrary.org
SUMMARY:July Saturday Open
DESCRIPTION:The library will be open for regular 4th Saturday hours from 10 -2. \nStorytime will be from 11 – 12:30ish. \nBring your littles for some story reading\, lunch and maybe some crafts.
URL:http://www.fordlandmemoriallibrary.org/event/july-saturday-open/
END:VEVENT
END:VCALENDAR