BEGIN:VCALENDAR
VERSION:2.0
PRODID:-//Fordland Memorial Library - ECPv5.11.0//NONSGML v1.0//EN
CALSCALE:GREGORIAN
METHOD:PUBLISH
X-WR-CALNAME:Fordland Memorial Library
X-ORIGINAL-URL:http://www.fordlandmemoriallibrary.org
X-WR-CALDESC:Events for Fordland Memorial Library
BEGIN:VTIMEZONE
TZID:UTC
BEGIN:STANDARD
TZOFFSETFROM:+0000
TZOFFSETTO:+0000
TZNAME:UTC
DTSTART:20220101T000000
END:STANDARD
END:VTIMEZONE
BEGIN:VEVENT
DTSTART;TZID=UTC:20220728T080000
DTEND;TZID=UTC:20220730T170000
DTSTAMP:20260420T005302
CREATED:20220620T184537Z
LAST-MODIFIED:20220727T162430Z
UID:397-1658995200-1659200400@www.fordlandmemoriallibrary.org
SUMMARY:July Library Yard Sale
DESCRIPTION:The annual library summer yard sale will be held on Thursday\, July 28 through Saturday\, July 30. Since the sale is open for 3 days\, the location of the sale will be at 244 W Main St. The hours of the sale will be from 8 am to 5 pm. \nCheck out the other posting for more information.
URL:http://www.fordlandmemoriallibrary.org/event/july-library-yard-sale/
END:VEVENT
END:VCALENDAR