BEGIN:VCALENDAR
VERSION:2.0
PRODID:-//Fordland Memorial Library - ECPv5.11.0//NONSGML v1.0//EN
CALSCALE:GREGORIAN
METHOD:PUBLISH
X-WR-CALNAME:Fordland Memorial Library
X-ORIGINAL-URL:http://www.fordlandmemoriallibrary.org
X-WR-CALDESC:Events for Fordland Memorial Library
BEGIN:VTIMEZONE
TZID:UTC
BEGIN:STANDARD
TZOFFSETFROM:+0000
TZOFFSETTO:+0000
TZNAME:UTC
DTSTART:20220101T000000
END:STANDARD
END:VTIMEZONE
BEGIN:VEVENT
DTSTART;TZID=UTC:20220723T110000
DTEND;TZID=UTC:20220723T120000
DTSTAMP:20260419T231037
CREATED:20220423T174025Z
LAST-MODIFIED:20220609T221018Z
UID:351-1658574000-1658577600@www.fordlandmemoriallibrary.org
SUMMARY:July Story Hour
DESCRIPTION:Our monthly story hour will be July 23\, 2022. Every child 2-8\, plus siblings and friends of the family\, is welcome to attend. Each child must have a parent accompany them. \nA fun activity is being planned as well as a free hot dog lunch provided for all who attend. \nThe library will be open from 10 am to 2 pm. Story hour will begin around 11 am. \nCome join us at the library! \n 
URL:http://www.fordlandmemoriallibrary.org/event/july-library-story-hour/
END:VEVENT
END:VCALENDAR