BEGIN:VCALENDAR
VERSION:2.0
PRODID:-//Fordland Memorial Library - ECPv5.11.0//NONSGML v1.0//EN
CALSCALE:GREGORIAN
METHOD:PUBLISH
X-WR-CALNAME:Fordland Memorial Library
X-ORIGINAL-URL:http://www.fordlandmemoriallibrary.org
X-WR-CALDESC:Events for Fordland Memorial Library
BEGIN:VTIMEZONE
TZID:UTC
BEGIN:STANDARD
TZOFFSETFROM:+0000
TZOFFSETTO:+0000
TZNAME:UTC
DTSTART:20250101T000000
END:STANDARD
END:VTIMEZONE
BEGIN:VEVENT
DTSTART;TZID=UTC:20250510T090000
DTEND;TZID=UTC:20250510T150000
DTSTAMP:20260419T232333
CREATED:20250429T194936Z
LAST-MODIFIED:20250429T194936Z
UID:739-1746867600-1746889200@www.fordlandmemoriallibrary.org
SUMMARY:Fordland Market Days with Schofield+ Gray popup markets
DESCRIPTION:The library’s fundraising efforts continue with a part of all the festivities along Main St and at the City Park on May 10. The event will feature baked goods\, a used book sale (free with a donation to the library)\, and a variety of yard sale items. \nLocal vendors such as Heather’s Odds n Ends\, Pocketful of Sugar\, Kieffer’s Pottery\, Hunter’s Plant Paradise\, Dana’s Home Goods\, Ice’s Smoke n Shack and Pig in a Pot (pork rinds) will also be present. \nInterested local vendors can contact Becky Fisher on Facebook to set up at the library parking lot. \nFordland Memorial Library \n157 W Main St \n 
URL:http://www.fordlandmemoriallibrary.org/event/fordland-market-days-with-schofield-gray-popup-markets/
END:VEVENT
END:VCALENDAR