BEGIN:VCALENDAR
VERSION:2.0
PRODID:-//Fordland Memorial Library - ECPv5.11.0//NONSGML v1.0//EN
CALSCALE:GREGORIAN
METHOD:PUBLISH
X-WR-CALNAME:Fordland Memorial Library
X-ORIGINAL-URL:http://www.fordlandmemoriallibrary.org
X-WR-CALDESC:Events for Fordland Memorial Library
BEGIN:VTIMEZONE
TZID:UTC
BEGIN:STANDARD
TZOFFSETFROM:+0000
TZOFFSETTO:+0000
TZNAME:UTC
DTSTART:20240101T000000
END:STANDARD
END:VTIMEZONE
BEGIN:VEVENT
DTSTART;TZID=UTC:20240511T110000
DTEND;TZID=UTC:20240511T130000
DTSTAMP:20260420T013125
CREATED:20240315T203531Z
LAST-MODIFIED:20240315T203531Z
UID:629-1715425200-1715432400@www.fordlandmemoriallibrary.org
SUMMARY:Fordland Market Days And Story Time
DESCRIPTION:Stop by the library during the SCHOFIELD AND GRAY MARKET. The library will have a BOOK SALE\, YARD SALE\, and BURRITOS to raise fund for the library\, and the grounds will be open to vendors.\nSTORY TIME will be inside from 11am-12pm. Join us as we read books about DINOSAURS\, then stay for a special MOTHER’S DAY craft and hot dog lunch.
URL:http://www.fordlandmemoriallibrary.org/event/fordland-market-days-and-story-time/
END:VEVENT
END:VCALENDAR