BEGIN:VCALENDAR
VERSION:2.0
PRODID:-//Fordland Memorial Library - ECPv5.11.0//NONSGML v1.0//EN
CALSCALE:GREGORIAN
METHOD:PUBLISH
X-WR-CALNAME:Fordland Memorial Library
X-ORIGINAL-URL:http://www.fordlandmemoriallibrary.org
X-WR-CALDESC:Events for Fordland Memorial Library
BEGIN:VTIMEZONE
TZID:UTC
BEGIN:STANDARD
TZOFFSETFROM:+0000
TZOFFSETTO:+0000
TZNAME:UTC
DTSTART:20230101T000000
END:STANDARD
END:VTIMEZONE
BEGIN:VEVENT
DTSTART;TZID=UTC:20230513T080000
DTEND;TZID=UTC:20230513T150000
DTSTAMP:20260419T200236
CREATED:20230408T200116Z
LAST-MODIFIED:20230508T201030Z
UID:492-1683964800-1683990000@www.fordlandmemoriallibrary.org
SUMMARY:Fordland Community Sale Day
DESCRIPTION:In conjunction with the Schofield + Gray event\, the Fordland Memorial Library will be having a fundraiser along with other merchants and vendors in town. The Schofield event will be on the east side of town while the library will be hosting similar venues on the west side of town. The parking lot will be set up with local vendors. If you are interested in setting up a vendor  The town of Fordland will be bustling with activity. \nThe library will be serving burritos and a burrito meal plus baked goods. Our baked goods include banana nut bread and pumpkin breads\, cookies\, brownies\, plus other goodies. \nThe library will have used books for FREE with a donation accepted. \nFramed pictures\, small home safe\, 4-wheel walker\, blankets\, IRISES–several varieties. Other items will be for sale–Come see us!
URL:http://www.fordlandmemoriallibrary.org/event/fordland-community-sale-day/
END:VEVENT
END:VCALENDAR