BEGIN:VCALENDAR
VERSION:2.0
PRODID:-//Fordland Memorial Library - ECPv5.11.0//NONSGML v1.0//EN
CALSCALE:GREGORIAN
METHOD:PUBLISH
X-WR-CALNAME:Fordland Memorial Library
X-ORIGINAL-URL:http://www.fordlandmemoriallibrary.org
X-WR-CALDESC:Events for Fordland Memorial Library
BEGIN:VTIMEZONE
TZID:UTC
BEGIN:STANDARD
TZOFFSETFROM:+0000
TZOFFSETTO:+0000
TZNAME:UTC
DTSTART:20230101T000000
END:STANDARD
END:VTIMEZONE
BEGIN:VEVENT
DTSTART;TZID=UTC:20231111T080000
DTEND;TZID=UTC:20231111T150000
DTSTAMP:20260419T164211
CREATED:20231002T034750Z
LAST-MODIFIED:20231011T231547Z
UID:496-1699689600-1699714800@www.fordlandmemoriallibrary.org
SUMMARY:Fordland Community Sale Day
DESCRIPTION:Hours: 8 am to 3 pm. \nIn conjunction with the Schofield + Gray event\, the Fordland Memorial Library will be having a used book fair along with other merchants and vendors. The Schofield event will be on the east side of town while the library will be hosting similar venues on the west side of town. The parking lot will be set up with local vendors. The town of Fordland will be bustling with activity. \nThe library will have used book for free–you can take as many books as you want with a donation to the library. \nOther items for sale will include winter clothing. Be sure to check back with this page for updates.
URL:http://www.fordlandmemoriallibrary.org/event/fordland-community-sale-day-3/
END:VEVENT
END:VCALENDAR