BEGIN:VCALENDAR
VERSION:2.0
PRODID:-//Fordland Memorial Library - ECPv5.11.0//NONSGML v1.0//EN
CALSCALE:GREGORIAN
METHOD:PUBLISH
X-WR-CALNAME:Fordland Memorial Library
X-ORIGINAL-URL:http://www.fordlandmemoriallibrary.org
X-WR-CALDESC:Events for Fordland Memorial Library
BEGIN:VTIMEZONE
TZID:UTC
BEGIN:STANDARD
TZOFFSETFROM:+0000
TZOFFSETTO:+0000
TZNAME:UTC
DTSTART:20240101T000000
END:STANDARD
END:VTIMEZONE
BEGIN:VEVENT
DTSTART;TZID=UTC:20240224T100000
DTEND;TZID=UTC:20240224T140000
DTSTAMP:20260419T232204
CREATED:20240207T152454Z
LAST-MODIFIED:20240207T152454Z
UID:585-1708768800-1708783200@www.fordlandmemoriallibrary.org
SUMMARY:February Saturday of the Month
DESCRIPTION:The regular library Saturday of the month will be Feb 24\, from 10 am to 2 pm. \nStorytime starts at 11 am with a free lunch and craft and reading stories. Parents must attend with their children.
URL:http://www.fordlandmemoriallibrary.org/event/february-saturday-of-the-month/
END:VEVENT
END:VCALENDAR