BEGIN:VCALENDAR
VERSION:2.0
PRODID:-//Fordland Memorial Library - ECPv5.11.0//NONSGML v1.0//EN
CALSCALE:GREGORIAN
METHOD:PUBLISH
X-WR-CALNAME:Fordland Memorial Library
X-ORIGINAL-URL:http://www.fordlandmemoriallibrary.org
X-WR-CALDESC:Events for Fordland Memorial Library
BEGIN:VTIMEZONE
TZID:UTC
BEGIN:STANDARD
TZOFFSETFROM:+0000
TZOFFSETTO:+0000
TZNAME:UTC
DTSTART:20240101T000000
END:STANDARD
END:VTIMEZONE
BEGIN:VEVENT
DTSTART;TZID=UTC:20241012T110000
DTEND;TZID=UTC:20241012T130000
DTSTAMP:20260420T025110
CREATED:20241004T203733Z
LAST-MODIFIED:20241004T203733Z
UID:698-1728730800-1728738000@www.fordlandmemoriallibrary.org
SUMMARY:Costumes at the Castle
DESCRIPTION:Please join us for the Fordland Memorial Library’s October storytime at the Chateau Charmant–Fordland’s own castle! Tai Kimes\, aka “Lady Christmas”\, will be reading and directing activities for those who attend. Children are encouraged to wear their Halloween costumes\, but it is not required. \nCheck out the event on Facebook at the Fordland Memorial Library page. There is a link to register\, but that is not required. However\, it would be helpful to know how many are attending to make sure there are enough supplies available for all those who come for fun. \nGet your pictures taken while you are at the Chateau Charmant castle. It makes a great background. \nIf you want to meet at the library parking lot about 10:15\, a group can drive together. Or just meet at the castle by 11 am. \nChateau Charmant castle is located at: 1700 Martins Branch Rd\, Fordland\, MO
URL:http://www.fordlandmemoriallibrary.org/event/costumes-at-the-castle-2/
LOCATION:Chateau Charmant\, 1700 Martins Branch Road\, Fordland\, MO\, 65652
END:VEVENT
END:VCALENDAR