BEGIN:VCALENDAR
VERSION:2.0
PRODID:-//Fordland Memorial Library - ECPv5.11.0//NONSGML v1.0//EN
CALSCALE:GREGORIAN
METHOD:PUBLISH
X-WR-CALNAME:Fordland Memorial Library
X-ORIGINAL-URL:http://www.fordlandmemoriallibrary.org
X-WR-CALDESC:Events for Fordland Memorial Library
BEGIN:VTIMEZONE
TZID:UTC
BEGIN:STANDARD
TZOFFSETFROM:+0000
TZOFFSETTO:+0000
TZNAME:UTC
DTSTART:20220101T000000
END:STANDARD
END:VTIMEZONE
BEGIN:VEVENT
DTSTART;VALUE=DATE:20220704
DTEND;VALUE=DATE:20220705
DTSTAMP:20260420T023930
CREATED:20220629T204610Z
LAST-MODIFIED:20220629T204814Z
UID:402-1656892800-1656979199@www.fordlandmemoriallibrary.org
SUMMARY:Closed for July 4
DESCRIPTION:The library will be closed for the July 4 holiday. If someone is available\, the library may be open during the city parade.
URL:http://www.fordlandmemoriallibrary.org/event/closed-for-july-4/
END:VEVENT
END:VCALENDAR