BEGIN:VCALENDAR
VERSION:2.0
PRODID:-//Fordland Memorial Library - ECPv5.11.0//NONSGML v1.0//EN
CALSCALE:GREGORIAN
METHOD:PUBLISH
X-WR-CALNAME:Fordland Memorial Library
X-ORIGINAL-URL:http://www.fordlandmemoriallibrary.org
X-WR-CALDESC:Events for Fordland Memorial Library
BEGIN:VTIMEZONE
TZID:UTC
BEGIN:STANDARD
TZOFFSETFROM:+0000
TZOFFSETTO:+0000
TZNAME:UTC
DTSTART:20250101T000000
END:STANDARD
END:VTIMEZONE
BEGIN:VEVENT
DTSTART;VALUE=DATE:20251231
DTEND;VALUE=DATE:20260102
DTSTAMP:20260419T200000
CREATED:20251216T185451Z
LAST-MODIFIED:20251216T191236Z
UID:761-1767139200-1767311999@www.fordlandmemoriallibrary.org
SUMMARY:CLOSED December 31- January 1
DESCRIPTION:CLOSED — Wednesday\, December 31 to January 1
URL:http://www.fordlandmemoriallibrary.org/event/closed-december-31-january-1/
END:VEVENT
END:VCALENDAR