BEGIN:VCALENDAR
VERSION:2.0
PRODID:-//Fordland Memorial Library - ECPv5.11.0//NONSGML v1.0//EN
CALSCALE:GREGORIAN
METHOD:PUBLISH
X-WR-CALNAME:Fordland Memorial Library
X-ORIGINAL-URL:http://www.fordlandmemoriallibrary.org
X-WR-CALDESC:Events for Fordland Memorial Library
BEGIN:VTIMEZONE
TZID:UTC
BEGIN:STANDARD
TZOFFSETFROM:+0000
TZOFFSETTO:+0000
TZNAME:UTC
DTSTART:20250101T000000
END:STANDARD
END:VTIMEZONE
BEGIN:VEVENT
DTSTART;VALUE=DATE:20251223
DTEND;VALUE=DATE:20251227
DTSTAMP:20260419T231814
CREATED:20251216T185235Z
LAST-MODIFIED:20251216T191342Z
UID:759-1766448000-1766793599@www.fordlandmemoriallibrary.org
SUMMARY:CLOSED December 23-26
DESCRIPTION:CLOSED — Tuesday\, December 23 – Friday\, December 26
URL:http://www.fordlandmemoriallibrary.org/event/closed-december-23-26/
END:VEVENT
END:VCALENDAR