BEGIN:VCALENDAR
VERSION:2.0
PRODID:-//Fordland Memorial Library - ECPv5.11.0//NONSGML v1.0//EN
CALSCALE:GREGORIAN
METHOD:PUBLISH
X-WR-CALNAME:Fordland Memorial Library
X-ORIGINAL-URL:http://www.fordlandmemoriallibrary.org
X-WR-CALDESC:Events for Fordland Memorial Library
BEGIN:VTIMEZONE
TZID:UTC
BEGIN:STANDARD
TZOFFSETFROM:+0000
TZOFFSETTO:+0000
TZNAME:UTC
DTSTART:20220101T000000
END:STANDARD
END:VTIMEZONE
BEGIN:VEVENT
DTSTART;TZID=UTC:20220423T100000
DTEND;TZID=UTC:20220423T140000
DTSTAMP:20260420T024037
CREATED:20220407T181545Z
LAST-MODIFIED:20220407T181545Z
UID:276-1650708000-1650722400@www.fordlandmemoriallibrary.org
SUMMARY:April Story Hour
DESCRIPTION:Our monthly story hour is starting up again on April 23\, 2022. Beta Club members will be reading to each participant. Every child 2-8 will have their own personal reader. Siblings and friends of the family are welcome to attend. Each child must have a parent accompany them. \nA fun activity is being planned as well as a free hot dog lunch provided for all who attend. \nThe library will be open from 10 am to 2 pm. Story hour will begin around 11 am. \nCome join us at the library!
URL:http://www.fordlandmemoriallibrary.org/event/april-story-hour/
END:VEVENT
END:VCALENDAR