BEGIN:VCALENDAR
VERSION:2.0
PRODID:-//Fordland Memorial Library - ECPv5.11.0//NONSGML v1.0//EN
CALSCALE:GREGORIAN
METHOD:PUBLISH
X-WR-CALNAME:Fordland Memorial Library
X-ORIGINAL-URL:http://www.fordlandmemoriallibrary.org
X-WR-CALDESC:Events for Fordland Memorial Library
BEGIN:VTIMEZONE
TZID:UTC
BEGIN:STANDARD
TZOFFSETFROM:+0000
TZOFFSETTO:+0000
TZNAME:UTC
DTSTART:20240101T000000
END:STANDARD
END:VTIMEZONE
BEGIN:VEVENT
DTSTART;TZID=UTC:20240620T080000
DTEND;TZID=UTC:20240622T170000
DTSTAMP:20260420T012708
CREATED:20240315T204005Z
LAST-MODIFIED:20240410T175958Z
UID:633-1718870400-1719075600@www.fordlandmemoriallibrary.org
SUMMARY:Annual Library Yard Sale
DESCRIPTION:Set up at Becky Fisher’s June 19 \nMore details coming soon
URL:http://www.fordlandmemoriallibrary.org/event/annual-city-wide-yard-sale/
END:VEVENT
END:VCALENDAR