BEGIN:VCALENDAR
VERSION:2.0
PRODID:-//Fordland Memorial Library - ECPv5.11.0//NONSGML v1.0//EN
CALSCALE:GREGORIAN
METHOD:PUBLISH
X-WR-CALNAME:Fordland Memorial Library
X-ORIGINAL-URL:http://www.fordlandmemoriallibrary.org
X-WR-CALDESC:Events for Fordland Memorial Library
BEGIN:VTIMEZONE
TZID:UTC
BEGIN:STANDARD
TZOFFSETFROM:+0000
TZOFFSETTO:+0000
TZNAME:UTC
DTSTART:20240101T000000
END:STANDARD
END:VTIMEZONE
BEGIN:VEVENT
DTSTART;TZID=UTC:20240724T113000
DTEND;TZID=UTC:20240724T123000
DTSTAMP:20260420T013252
CREATED:20240707T202235Z
LAST-MODIFIED:20240707T205921Z
UID:690-1721820600-1721824200@www.fordlandmemoriallibrary.org
SUMMARY:American Heart Association & Webster County Health Unit Blood Pressure Education Bingo
DESCRIPTION:Learn about blood pressure\, the importance of self-monitoring and how to combat the devastating effects. Attendees will receive FREE American Heart Association key chains\, FREE first aid kits\, and a $20 gift-card after the completion survey. Additional prizes will be awarded for bingo! \nSign-up at the Fordland Memorial Library\, 157 W Main St\, Fordland\, Missouri 65652. The library is open MWF from 9 – 1\, 2 – 5. \nSign-up sheets are at the post office and the Fordland senior citizen apartments. \nYou may also sign up online at the Fordland Memorial Library Facebook page or message Becky Turnbaugh Fisher through the Fordland Residents Facebook page. \nBP education event Fordland Memorial Library
URL:http://www.fordlandmemoriallibrary.org/event/american-heart-association-webster-county-health-unit-blood-pressure-education-bingo/
END:VEVENT
END:VCALENDAR